
BEGIN:VCALENDAR
VERSION:2.0
PRODID:-//wp-events-plugin.com//6.6.4.4//EN
TZID:America/New_York
X-WR-TIMEZONE:America/New_York
BEGIN:VEVENT
UID:751@baileylibrary.org
DTSTART;TZID=America/New_York:20240224T103000
DTEND;TZID=America/New_York:20240224T103000
DTSTAMP:20240131T165923Z
URL:https://www.baileylibrary.org/events/young-writers-workshop/
SUMMARY:Young Writers Workshop
DESCRIPTION:SATURDAY - Do you love to write? Join our workshop for serious 
 young writers (8th - 12th grade) led by Jenny Martinez Nocito. Participant
 s meet monthly to share\, discuss\, and workshop their own and others’ w
 riting in a supportive and encouraging environment. Advance registration 
 is required. For more information and to register\, email Jenny at jmartin
 ez@baileylibrary.org
ATTACH;FMTTYPE=image/jpeg:https://www.baileylibrary.org/wp-content/uploads
 /2024/01/youngwriters-resized.jpg
CATEGORIES:Teens
END:VEVENT
BEGIN:VTIMEZONE
TZID:America/New_York
X-LIC-LOCATION:America/New_York
BEGIN:STANDARD
DTSTART:20231105T010000
TZOFFSETFROM:-0400
TZOFFSETTO:-0500
TZNAME:EST
END:STANDARD
END:VTIMEZONE
END:VCALENDAR