
BEGIN:VCALENDAR
VERSION:2.0
PRODID:-//wp-events-plugin.com//6.6.4.4//EN
TZID:America/New_York
X-WR-TIMEZONE:America/New_York
BEGIN:VEVENT
UID:1619@baileylibrary.org
DTSTART;TZID=America/New_York:20240907T103000
DTEND;TZID=America/New_York:20240907T103000
DTSTAMP:20240821T173630Z
URL:https://www.baileylibrary.org/events/young-writers-workshop-5/
SUMMARY:Young Writers Workshop
DESCRIPTION:Do you love to write? Join our workshop for serious young write
 rs (8th - 12th grade) led by Jenny Martinez Nocito. Participants meet mont
 hly to share\, discuss\, and workshop their own and others’ writing in a
  supportive and encouraging environment. Advance registration is required.
  For more information and to register\, email Jenny at jmartinez@baileylib
 rary.org
ATTACH;FMTTYPE=image/jpeg:https://www.baileylibrary.org/wp-content/uploads
 /2024/05/youngwriters-resized.jpg
CATEGORIES:Teens
END:VEVENT
BEGIN:VTIMEZONE
TZID:America/New_York
X-LIC-LOCATION:America/New_York
BEGIN:DAYLIGHT
DTSTART:20240310T030000
TZOFFSETFROM:-0500
TZOFFSETTO:-0400
TZNAME:EDT
END:DAYLIGHT
END:VTIMEZONE
END:VCALENDAR