
BEGIN:VCALENDAR
VERSION:2.0
PRODID:-//wp-events-plugin.com//6.6.4.4//EN
TZID:America/New_York
X-WR-TIMEZONE:America/New_York
BEGIN:VEVENT
UID:4887@baileylibrary.org
DTSTART;TZID=America/New_York:20261205T090000
DTEND;TZID=America/New_York:20261205T090000
DTSTAMP:20260330T184800Z
URL:https://www.baileylibrary.org/events/winter-open-house-2/
SUMMARY:Winter Open House!
DESCRIPTION:Please join us for our 42nd annual Winter Open House! We will h
 ave special events all day long before we suit up and get ready to march i
 n the Town's holiday parade at 3pm.\n\n 	9am - 1pm: Friends of the Library
  Pie Sale - All proceeds benefit the library!\n 	9am - 1pm: Friends of the
  Library Mini Book Sale - All proceeds benefit the library\n 	10:30am: Liv
 e music from Bailey Slow Jam\n 	1pm: Live music from the Winthrop Handbell
  Ringers\n\nFor more information about the Open House\, please email Micha
 el at reference@baileylibrary.org. For more information about the Pie &am
 p\; Mini Book Sale\, please email Joanne at jlebrun148@gmail.com.
ATTACH;FMTTYPE=image/jpeg:https://www.baileylibrary.org/wp-content/uploads
 /2025/11/Winter-open-house-resized.jpg
CATEGORIES:Adults,Kids,Teens
END:VEVENT
BEGIN:VTIMEZONE
TZID:America/New_York
X-LIC-LOCATION:America/New_York
BEGIN:STANDARD
DTSTART:20261101T010000
TZOFFSETFROM:-0400
TZOFFSETTO:-0500
TZNAME:EST
END:STANDARD
END:VTIMEZONE
END:VCALENDAR