
BEGIN:VCALENDAR
VERSION:2.0
PRODID:-//wp-events-plugin.com//6.6.4.4//EN
TZID:America/New_York
X-WR-TIMEZONE:America/New_York
BEGIN:VEVENT
UID:2606@baileylibrary.org
DTSTART;TZID=America/New_York:20250821T153000
DTEND;TZID=America/New_York:20250821T153000
DTSTAMP:20250528T215406Z
URL:https://www.baileylibrary.org/events/tween-art-club-3/
SUMMARY:T(w)een Art Club
DESCRIPTION:Join our Teen Art Club in the Teen Corner of the library! Wheth
 er you’re a master artist or just like to doodle\, this is the space to 
 explore and create. Get inspired\, try out new projects\, and hang out wit
 h other art enthusiasts! No registration required\, email Ryee at rhagelin
 @baileylibrary.org for more information.
ATTACH;FMTTYPE=image/jpeg:https://www.baileylibrary.org/wp-content/uploads
 /2025/05/teen-art-club.jpg
CATEGORIES:Teens
END:VEVENT
BEGIN:VTIMEZONE
TZID:America/New_York
X-LIC-LOCATION:America/New_York
BEGIN:DAYLIGHT
DTSTART:20250309T030000
TZOFFSETFROM:-0500
TZOFFSETTO:-0400
TZNAME:EDT
END:DAYLIGHT
END:VTIMEZONE
END:VCALENDAR