
BEGIN:VCALENDAR
VERSION:2.0
PRODID:-//wp-events-plugin.com//6.6.4.4//EN
TZID:America/New_York
X-WR-TIMEZONE:America/New_York
BEGIN:VEVENT
UID:4232@baileylibrary.org
DTSTART;TZID=America/New_York:20261019T180000
DTEND;TZID=America/New_York:20261019T193000
DTSTAMP:20251103T174541Z
URL:https://www.baileylibrary.org/events/trustee-meeting-2026-10-12/
SUMMARY:Trustee Meeting
DESCRIPTION:For the month of October\, the Bailey Library Board of Trustees
  will meet on the 3rd Monday of the month from 6:00 – 7:30 pm. We will r
 eturn to the 2nd Monday of the month in November. Open to the public. Imme
 diately followed by the Winthrop Library Foundation monthly meeting. Email
  rfortin@baileylibrary.org to attend via Zoom.
ATTACH;FMTTYPE=image/jpeg:https://www.baileylibrary.org/wp-content/uploads
 /2022/12/trustees-1.jpg
CATEGORIES:Adults
END:VEVENT
BEGIN:VTIMEZONE
TZID:America/New_York
X-LIC-LOCATION:America/New_York
BEGIN:DAYLIGHT
DTSTART:20260308T030000
TZOFFSETFROM:-0500
TZOFFSETTO:-0400
TZNAME:EDT
END:DAYLIGHT
END:VTIMEZONE
END:VCALENDAR