
BEGIN:VCALENDAR
VERSION:2.0
PRODID:-//wp-events-plugin.com//6.6.4.4//EN
TZID:America/New_York
X-WR-TIMEZONE:America/New_York
BEGIN:VEVENT
UID:1431@baileylibrary.org
DTSTART;TZID=America/New_York:20240720T113000
DTEND;TZID=America/New_York:20240720T113000
DTSTAMP:20240605T154754Z
URL:https://www.baileylibrary.org/events/teen-summer-jewelry-making-galore
 -2/
SUMMARY:Teen Summer Jewelry Making Galore!
DESCRIPTION:Join us for a free-for-all make your own jewelry hangout in the
  teen section! Supplies and a few ideas will be provided. 11:30am - 2:30pm
  - drop-in and stay as long as you like. FMI: email Maayan at mdantonio@ba
 ileylibrary.org.
ATTACH;FMTTYPE=image/jpeg:https://www.baileylibrary.org/wp-content/uploads
 /2024/05/Teen-jewelery-making-resized.jpg
CATEGORIES:Teens
END:VEVENT
BEGIN:VTIMEZONE
TZID:America/New_York
X-LIC-LOCATION:America/New_York
BEGIN:DAYLIGHT
DTSTART:20240310T030000
TZOFFSETFROM:-0500
TZOFFSETTO:-0400
TZNAME:EDT
END:DAYLIGHT
END:VTIMEZONE
END:VCALENDAR