
BEGIN:VCALENDAR
VERSION:2.0
PRODID:-//wp-events-plugin.com//6.6.4.4//EN
TZID:America/New_York
X-WR-TIMEZONE:America/New_York
BEGIN:VEVENT
UID:2612@baileylibrary.org
DTSTART;TZID=America/New_York:20250731T170000
DTEND;TZID=America/New_York:20250731T170000
DTSTAMP:20250602T181052Z
URL:https://www.baileylibrary.org/events/teen-paint-night/
SUMMARY:Teen Paint Night!
DESCRIPTION:Teens\, please join us for a fun paint night with a local artis
 t. We'll provide the supplies and you'll create a piece of art to take hom
 e with you. This event will run from 5pm - 7pm. For more information\, ema
 il rhagelin@baileylibrary.org.
ATTACH;FMTTYPE=image/jpeg:https://www.baileylibrary.org/wp-content/uploads
 /2025/06/Paint-Night-Instagram-Post.jpg
CATEGORIES:Teens
END:VEVENT
BEGIN:VTIMEZONE
TZID:America/New_York
X-LIC-LOCATION:America/New_York
BEGIN:DAYLIGHT
DTSTART:20250309T030000
TZOFFSETFROM:-0500
TZOFFSETTO:-0400
TZNAME:EDT
END:DAYLIGHT
END:VTIMEZONE
END:VCALENDAR