
BEGIN:VCALENDAR
VERSION:2.0
PRODID:-//wp-events-plugin.com//6.6.4.4//EN
TZID:America/New_York
X-WR-TIMEZONE:America/New_York
BEGIN:VEVENT
UID:1438@baileylibrary.org
DTSTART;TZID=America/New_York:20240730T150000
DTEND;TZID=America/New_York:20240730T150000
DTSTAMP:20240608T160757Z
URL:https://www.baileylibrary.org/events/teen-marvel-trivia-night/
SUMMARY:Teen Marvel Trivia &#8220\;Night&#8221\;!
DESCRIPTION:Come participate in our Marvel trivia for teens! Bring your "ma
 n in the chair\," bring your cape and webs. Prizes will be won\, summer re
 ading raffle tickets will be earned. FMI: Email Maayan at mdantonio@bailey
 library.org.
ATTACH;FMTTYPE=image/jpeg:https://www.baileylibrary.org/wp-content/uploads
 /2024/06/Marvel-Trivia-resized.png
CATEGORIES:Teens
END:VEVENT
BEGIN:VTIMEZONE
TZID:America/New_York
X-LIC-LOCATION:America/New_York
BEGIN:DAYLIGHT
DTSTART:20240310T030000
TZOFFSETFROM:-0500
TZOFFSETTO:-0400
TZNAME:EDT
END:DAYLIGHT
END:VTIMEZONE
END:VCALENDAR