
BEGIN:VCALENDAR
VERSION:2.0
PRODID:-//wp-events-plugin.com//6.6.4.4//EN
TZID:America/New_York
X-WR-TIMEZONE:America/New_York
BEGIN:VEVENT
UID:799@baileylibrary.org
DTSTART;TZID=America/New_York:20240213T160000
DTEND;TZID=America/New_York:20240213T160000
DTSTAMP:20240203T195032Z
URL:https://www.baileylibrary.org/events/teen-hot-cocoa-clay-sculpting/
SUMMARY:Teen Hot Cocoa &#038\; Clay Sculpting
DESCRIPTION:Come sip some steaming hot cocoa\, chat\, and get creative with
  polymer clay. Make your items here and then take them home to bake. For m
 ore information\, email Stacy at stomassone@baileylibrary.org.
ATTACH;FMTTYPE=image/jpeg:https://www.baileylibrary.org/wp-content/uploads
 /2024/02/hot-cocoa-resized.jpg
CATEGORIES:Teens
END:VEVENT
BEGIN:VTIMEZONE
TZID:America/New_York
X-LIC-LOCATION:America/New_York
BEGIN:STANDARD
DTSTART:20231105T010000
TZOFFSETFROM:-0400
TZOFFSETTO:-0500
TZNAME:EST
END:STANDARD
END:VTIMEZONE
END:VCALENDAR