
BEGIN:VCALENDAR
VERSION:2.0
PRODID:-//wp-events-plugin.com//6.6.4.4//EN
TZID:America/New_York
X-WR-TIMEZONE:America/New_York
BEGIN:VEVENT
UID:1434@baileylibrary.org
DTSTART;TZID=America/New_York:20240717T150000
DTEND;TZID=America/New_York:20240717T150000
DTSTAMP:20240608T155834Z
URL:https://www.baileylibrary.org/events/teen-harry-potter-trivia-night/
SUMMARY:Teen Harry Potter Trivia "Night"!
DESCRIPTION:Come participate in our Harry Potter trivia for teens! Bring a 
 friend\, bring four\, and your wand. Prizes will be won\, summer reading r
 affle tickets will be earned. FMI: Email Maayan at mdantonio@baileylibrar
 y.org
ATTACH;FMTTYPE=image/jpeg:https://www.baileylibrary.org/wp-content/uploads
 /2024/06/Harry-Potter-resized.jpg
CATEGORIES:Teens
END:VEVENT
BEGIN:VTIMEZONE
TZID:America/New_York
X-LIC-LOCATION:America/New_York
BEGIN:DAYLIGHT
DTSTART:20240310T030000
TZOFFSETFROM:-0500
TZOFFSETTO:-0400
TZNAME:EDT
END:DAYLIGHT
END:VTIMEZONE
END:VCALENDAR