
BEGIN:VCALENDAR
VERSION:2.0
PRODID:-//wp-events-plugin.com//6.6.4.4//EN
TZID:America/New_York
X-WR-TIMEZONE:America/New_York
BEGIN:VEVENT
UID:1441@baileylibrary.org
DTSTART;TZID=America/New_York:20240727T113000
DTEND;TZID=America/New_York:20240727T113000
DTSTAMP:20240608T172957Z
URL:https://www.baileylibrary.org/events/teen-harry-potter-bookmark-painti
 ng/
SUMMARY:Teen Harry Potter Bookmark Painting!
DESCRIPTION:Come paint your own Hogwarts House glow-in-the-dark bookmark\, 
 fresh from our 3D printer! 11:30am – 2:30pm – drop-in and stay as long
  as you like. FMI: Email Maayan at mdantonio@baileylibrary.org.
ATTACH;FMTTYPE=image/jpeg:https://www.baileylibrary.org/wp-content/uploads
 /2024/06/Hogwarts-resized.png
CATEGORIES:Teens
END:VEVENT
BEGIN:VTIMEZONE
TZID:America/New_York
X-LIC-LOCATION:America/New_York
BEGIN:DAYLIGHT
DTSTART:20240310T030000
TZOFFSETFROM:-0500
TZOFFSETTO:-0400
TZNAME:EDT
END:DAYLIGHT
END:VTIMEZONE
END:VCALENDAR