
BEGIN:VCALENDAR
VERSION:2.0
PRODID:-//wp-events-plugin.com//6.6.4.4//EN
TZID:America/New_York
X-WR-TIMEZONE:America/New_York
BEGIN:VEVENT
UID:1433@baileylibrary.org
DTSTART;TZID=America/New_York:20240710T150000
DTEND;TZID=America/New_York:20240710T150000
DTSTAMP:20240608T155822Z
URL:https://www.baileylibrary.org/events/teen-ghibli-movie-ramen-night/
SUMMARY:Teen Ghibli Movie & Ramen Night!
DESCRIPTION:Come experience the magic with Kiki's Delivery Service and a wa
 rm bowl of ramen topped with a hard-boiled soy egg. Snacks supply is limit
 ed. FMI: Email Maayan at mdantonio@baileylibrary.org
ATTACH;FMTTYPE=image/jpeg:https://www.baileylibrary.org/wp-content/uploads
 /2024/06/Ramen-resized.jpg
CATEGORIES:Teens
END:VEVENT
BEGIN:VTIMEZONE
TZID:America/New_York
X-LIC-LOCATION:America/New_York
BEGIN:DAYLIGHT
DTSTART:20240310T030000
TZOFFSETFROM:-0500
TZOFFSETTO:-0400
TZNAME:EDT
END:DAYLIGHT
END:VTIMEZONE
END:VCALENDAR