
BEGIN:VCALENDAR
VERSION:2.0
PRODID:-//wp-events-plugin.com//6.6.4.4//EN
TZID:America/New_York
X-WR-TIMEZONE:America/New_York
BEGIN:VEVENT
UID:2611@baileylibrary.org
DTSTART;TZID=America/New_York:20250625T143000
DTEND;TZID=America/New_York:20250625T143000
DTSTAMP:20250602T165321Z
URL:https://www.baileylibrary.org/events/teen-escape-room/
SUMMARY:Teen Escape Room!
DESCRIPTION:For more information\, email rhagelin@baileylibrary.org.
ATTACH;FMTTYPE=image/jpeg:https://www.baileylibrary.org/wp-content/uploads
 /2025/06/Escape-Room-resized.jpg
CATEGORIES:Teens
END:VEVENT
BEGIN:VTIMEZONE
TZID:America/New_York
X-LIC-LOCATION:America/New_York
BEGIN:DAYLIGHT
DTSTART:20250309T030000
TZOFFSETFROM:-0500
TZOFFSETTO:-0400
TZNAME:EDT
END:DAYLIGHT
END:VTIMEZONE
END:VCALENDAR