
BEGIN:VCALENDAR
VERSION:2.0
PRODID:-//wp-events-plugin.com//6.6.4.4//EN
TZID:America/New_York
X-WR-TIMEZONE:America/New_York
BEGIN:VEVENT
UID:1617@baileylibrary.org
DTSTART;TZID=America/New_York:20240830T120000
DTEND;TZID=America/New_York:20240830T120000
DTSTAMP:20240807T180043Z
URL:https://www.baileylibrary.org/events/teen-end-of-summer-reading-party/
SUMMARY:Teen End of Summer Reading Party!
DESCRIPTION:Join us as we celebrate the end of the Teen Summer Reading prog
 ram for 2024! Lunch will be provided from a local restaurant. We will also
  watch the movie Wonka\, enjoy some candy and popcorn\, and distribute pri
 zes to teen readers. FMI: Email Stacy at stomassone@baileylibrary.org.
ATTACH;FMTTYPE=image/jpeg:https://www.baileylibrary.org/wp-content/uploads
 /2024/08/Resize-image-project.png
CATEGORIES:Teens
END:VEVENT
BEGIN:VTIMEZONE
TZID:America/New_York
X-LIC-LOCATION:America/New_York
BEGIN:DAYLIGHT
DTSTART:20240310T030000
TZOFFSETFROM:-0500
TZOFFSETTO:-0400
TZNAME:EDT
END:DAYLIGHT
END:VTIMEZONE
END:VCALENDAR