
BEGIN:VCALENDAR
VERSION:2.0
PRODID:-//wp-events-plugin.com//6.6.4.4//EN
TZID:America/New_York
X-WR-TIMEZONE:America/New_York
BEGIN:VEVENT
UID:2613@baileylibrary.org
DTSTART;TZID=America/New_York:20250815T160000
DTEND;TZID=America/New_York:20250815T160000
DTSTAMP:20250602T180810Z
URL:https://www.baileylibrary.org/events/teen-end-of-summer-reading-party-
 2/
SUMMARY:Teen End of Summer Reading Party
DESCRIPTION:Join us to celebrate the end of our teen summer reading program
 ! This program will take place after hours from 4pm - 6pm. For more inform
 ation\, email rhagelin@baileylibrary.org.
ATTACH;FMTTYPE=image/jpeg:https://www.baileylibrary.org/wp-content/uploads
 /2025/06/Summer-reading-party-resized.png
CATEGORIES:Teens
END:VEVENT
BEGIN:VTIMEZONE
TZID:America/New_York
X-LIC-LOCATION:America/New_York
BEGIN:DAYLIGHT
DTSTART:20250309T030000
TZOFFSETFROM:-0500
TZOFFSETTO:-0400
TZNAME:EDT
END:DAYLIGHT
END:VTIMEZONE
END:VCALENDAR