
BEGIN:VCALENDAR
VERSION:2.0
PRODID:-//wp-events-plugin.com//6.6.4.4//EN
TZID:America/New_York
X-WR-TIMEZONE:America/New_York
BEGIN:VEVENT
UID:1440@baileylibrary.org
DTSTART;TZID=America/New_York:20240807T150000
DTEND;TZID=America/New_York:20240807T150000
DTSTAMP:20240806T182152Z
URL:https://www.baileylibrary.org/events/teen-end-of-summer-button-making/
SUMMARY:Teen End of Summer Button Making!
DESCRIPTION:CANCELED - this event has been canceled\, sorry for any inconve
 nience.
ATTACH;FMTTYPE=image/jpeg:https://www.baileylibrary.org/wp-content/uploads
 /2024/06/button-making-summer-resized.jpg
CATEGORIES:Teens
END:VEVENT
BEGIN:VTIMEZONE
TZID:America/New_York
X-LIC-LOCATION:America/New_York
BEGIN:DAYLIGHT
DTSTART:20240310T030000
TZOFFSETFROM:-0500
TZOFFSETTO:-0400
TZNAME:EDT
END:DAYLIGHT
END:VTIMEZONE
END:VCALENDAR