
BEGIN:VCALENDAR
VERSION:2.0
PRODID:-//wp-events-plugin.com//6.6.4.4//EN
TZID:America/New_York
X-WR-TIMEZONE:America/New_York
BEGIN:VEVENT
UID:1439@baileylibrary.org
DTSTART;TZID=America/New_York:20240731T150000
DTEND;TZID=America/New_York:20240731T150000
DTSTAMP:20240608T161244Z
URL:https://www.baileylibrary.org/events/teen-design-your-own-mug/
SUMMARY:Teen Design Your Own Mug!
DESCRIPTION:Come learn how to design your own mug using Cricut software. Cu
 tting and pressing the design will happen separately. Recommended for ages
  13+. Spots are limited and pre-registration is required. FMI: Email Maay
 an at mdantonio@baileylibrary.org
ATTACH;FMTTYPE=image/jpeg:https://www.baileylibrary.org/wp-content/uploads
 /2024/06/Mug-making-resized.jpg
CATEGORIES:Teens
END:VEVENT
BEGIN:VTIMEZONE
TZID:America/New_York
X-LIC-LOCATION:America/New_York
BEGIN:DAYLIGHT
DTSTART:20240310T030000
TZOFFSETFROM:-0500
TZOFFSETTO:-0400
TZNAME:EDT
END:DAYLIGHT
END:VTIMEZONE
END:VCALENDAR