
BEGIN:VCALENDAR
VERSION:2.0
PRODID:-//wp-events-plugin.com//6.6.4.4//EN
TZID:America/New_York
X-WR-TIMEZONE:America/New_York
BEGIN:VEVENT
UID:4889@baileylibrary.org
DTSTART;TZID=America/New_York:20260225T153000
DTEND;TZID=America/New_York:20260225T153000
DTSTAMP:20260202T211005Z
URL:https://www.baileylibrary.org/events/teen-cooking-class-maki-rolls/
SUMMARY:Teen Cooking Class &#8211\; Maki Rolls!
DESCRIPTION:Attention teens!  Join us for a fun\, hands-on cooking class! 
 We will be learning how to make Maki Rolls using a mobile test kitchen. T
 his event is presented by MaineGeneral's Peter Alfond Prevention &amp\; He
 althy Living Center. Spots are limited\, so registration is required. If y
 ou have any questions\, please call us at 377-8673 or email Ryee at rhage
 lin@baileylibrary.org.
ATTACH;FMTTYPE=image/jpeg:https://www.baileylibrary.org/wp-content/uploads
 /2026/02/Maki-Rolls2-resized.jpg
CATEGORIES:Teens
END:VEVENT
BEGIN:VTIMEZONE
TZID:America/New_York
X-LIC-LOCATION:America/New_York
BEGIN:STANDARD
DTSTART:20251102T010000
TZOFFSETFROM:-0400
TZOFFSETTO:-0500
TZNAME:EST
END:STANDARD
END:VTIMEZONE
END:VCALENDAR