
BEGIN:VCALENDAR
VERSION:2.0
PRODID:-//wp-events-plugin.com//6.6.4.4//EN
TZID:America/New_York
X-WR-TIMEZONE:America/New_York
BEGIN:VEVENT
UID:1442@baileylibrary.org
DTSTART;TZID=America/New_York:20240703T150000
DTEND;TZID=America/New_York:20240703T150000
DTSTAMP:20240613T204007Z
URL:https://www.baileylibrary.org/events/teen-aquatic-plant-clay-crafting/
SUMMARY:Teen Aquatic Plant Clay Crafting!
DESCRIPTION:Join us as we host the Friends of the Cobbossee Watershed for a
 n immersive journey into the fascinating world of aquatic plants! No regis
 tration required. Dress for a mess. FMI: Email Maayan at mdantonio@baileyl
 ibrary.org or visit the event page on our Facebook page.
ATTACH;FMTTYPE=image/jpeg:https://www.baileylibrary.org/wp-content/uploads
 /2024/06/Aquatic-plants-resized.jpg
CATEGORIES:Adults
END:VEVENT
BEGIN:VTIMEZONE
TZID:America/New_York
X-LIC-LOCATION:America/New_York
BEGIN:DAYLIGHT
DTSTART:20240310T030000
TZOFFSETFROM:-0500
TZOFFSETTO:-0400
TZNAME:EDT
END:DAYLIGHT
END:VTIMEZONE
END:VCALENDAR