
BEGIN:VCALENDAR
VERSION:2.0
PRODID:-//wp-events-plugin.com//6.6.4.4//EN
TZID:America/New_York
X-WR-TIMEZONE:America/New_York
BEGIN:VEVENT
UID:467@baileylibrary.org
DTSTART;TZID=America/New_York:20240323T100000
DTEND;TZID=America/New_York:20240323T100000
DTSTAMP:20240201T181048Z
URL:https://www.baileylibrary.org/events/tabletop-games-for-adults-2-2024-
 03-23/
SUMMARY:Tabletop Games for Adults
DESCRIPTION:Board games\, card games\, chess\, dominoes – come join the f
 un! On the 2nd and 4th Saturdays each month from 10am to 12pm we’ll s
 et up the events room with tables\, chairs\, and all the board games we ha
 ve on hand. Feel free to bring your own and join the fun! This event is al
 l ages\, so kids to older adults and everyone in between is welcome. For m
 ore information\, email lwilkinson@baileylibrary.org
ATTACH;FMTTYPE=image/jpeg:https://www.baileylibrary.org/wp-content/uploads
 /2023/09/Gametime-resized.jpg
CATEGORIES:Adults
END:VEVENT
BEGIN:VTIMEZONE
TZID:America/New_York
X-LIC-LOCATION:America/New_York
BEGIN:DAYLIGHT
DTSTART:20240310T030000
TZOFFSETFROM:-0500
TZOFFSETTO:-0400
TZNAME:EDT
END:DAYLIGHT
END:VTIMEZONE
END:VCALENDAR