
BEGIN:VCALENDAR
VERSION:2.0
PRODID:-//wp-events-plugin.com//6.6.4.4//EN
TZID:America/New_York
X-WR-TIMEZONE:America/New_York
BEGIN:VEVENT
UID:2602@baileylibrary.org
DTSTART;TZID=America/New_York;VALUE=DATE:20250623
DTEND;TZID=America/New_York;VALUE=DATE:20250624
DTSTAMP:20250528T205934Z
URL:https://www.baileylibrary.org/events/summer-reading-starts/
SUMMARY:Summer Reading Starts!
DESCRIPTION:It's finally here!  We are so excited for the launch of our p
 opular Summer Reading program for 2025! The program runs June 23 - August 
 15 and provides a fun and exciting challenge for young readers. Pick up re
 ading logs for kids or teens in the library or click here to download and 
 print a copy. For the kids reading logs\, be sure to come back after each 
 milestone to pick out a prize! For more information on the children's summ
 er reading program\, contact Stacy at stomassone@baileylibrary.org. For mo
 re information on the teen summer reading program\, contact Ryee at rhagel
 in@baileylibrary.org. Happy reading! 
ATTACH;FMTTYPE=image/jpeg:https://www.baileylibrary.org/wp-content/uploads
 /2025/05/Summer-Reading-resized.jpg
CATEGORIES:Homeschoolers,Kids,Teens
END:VEVENT
BEGIN:VTIMEZONE
TZID:America/New_York
X-LIC-LOCATION:America/New_York
BEGIN:DAYLIGHT
DTSTART:20250309T030000
TZOFFSETFROM:-0500
TZOFFSETTO:-0400
TZNAME:EDT
END:DAYLIGHT
END:VTIMEZONE
END:VCALENDAR