
BEGIN:VCALENDAR
VERSION:2.0
PRODID:-//wp-events-plugin.com//6.6.4.4//EN
TZID:America/New_York
X-WR-TIMEZONE:America/New_York
BEGIN:VEVENT
UID:2583@baileylibrary.org
DTSTART;TZID=America/New_York;VALUE=DATE:20250627
DTEND;TZID=America/New_York;VALUE=DATE:20250628
DTSTAMP:20250528T170410Z
URL:https://www.baileylibrary.org/events/stuffed-animal-sleepover-2/
SUMMARY:Stuffed Animal Sleepover!
DESCRIPTION:Come drop off your bravest stuffed animal to sleep overnight at
  the library! Your stuffed animal will get into all kinds of adventures an
 d you can pick it up the next morning at our Pick Up Party. You can drop o
 ff your stuffed animal anytime between 10am and 3pm today. FMI: Email Stac
 y at stomassone@baileylibrary.org.\n\n\n\n\n\n\n\n\n
ATTACH;FMTTYPE=image/jpeg:https://www.baileylibrary.org/wp-content/uploads
 /2024/07/Stuffy-Sleepover-resized.jpg
CATEGORIES:Kids
END:VEVENT
BEGIN:VTIMEZONE
TZID:America/New_York
X-LIC-LOCATION:America/New_York
BEGIN:DAYLIGHT
DTSTART:20250309T030000
TZOFFSETFROM:-0500
TZOFFSETTO:-0400
TZNAME:EDT
END:DAYLIGHT
END:VTIMEZONE
END:VCALENDAR