
BEGIN:VCALENDAR
VERSION:2.0
PRODID:-//wp-events-plugin.com//6.6.4.4//EN
TZID:America/New_York
X-WR-TIMEZONE:America/New_York
BEGIN:VEVENT
UID:1609@baileylibrary.org
DTSTART;TZID=America/New_York:20240706T100000
DTEND;TZID=America/New_York:20240706T100000
DTSTAMP:20240701T175948Z
URL:https://www.baileylibrary.org/events/stuffed-animal-pick-up-party/
SUMMARY:Stuffed Animal Pick Up Party!
DESCRIPTION:Come pick up your stuffed animal and learn all about the advent
 ures it had at the library sleepover last night! We will have donuts\, jui
 ce\, a slideshow\, and a balloon twister! FMI: Email Stacy at stomassone@b
 aileylibrary.org.
ATTACH;FMTTYPE=image/jpeg:https://www.baileylibrary.org/wp-content/uploads
 /2024/07/Stuffed-Animal-Pick-Up-Party-resized-2.jpg
CATEGORIES:Kids
END:VEVENT
BEGIN:VTIMEZONE
TZID:America/New_York
X-LIC-LOCATION:America/New_York
BEGIN:DAYLIGHT
DTSTART:20240310T030000
TZOFFSETFROM:-0500
TZOFFSETTO:-0400
TZNAME:EDT
END:DAYLIGHT
END:VTIMEZONE
END:VCALENDAR