
BEGIN:VCALENDAR
VERSION:2.0
PRODID:-//wp-events-plugin.com//6.6.4.4//EN
TZID:America/New_York
X-WR-TIMEZONE:America/New_York
BEGIN:VEVENT
UID:4747@baileylibrary.org
DTSTART;TZID=America/New_York:20251126T103000
DTEND;TZID=America/New_York:20251126T103000
DTSTAMP:20251103T224127Z
URL:https://www.baileylibrary.org/events/story-time-with-maine-author/
SUMMARY:Story Time with Maine Author!
DESCRIPTION:Join us on Wednesday\, November 26 at 10:30am for a lively Stor
 y Time featuring Maine author Kalee Gwarjanski and her delightful new pict
 ure book\, Miss MacDonald Has a Farm. Kalee will share her story in a fun 
 read-aloud perfect for little listeners\, followed by a Q&amp\;A and book 
 signing. Miss MacDonald Has a Farm (published by Random House) celebrates 
 healthy eating\, gardening\, and the joy of community. Books will be avail
 able for purchase thanks to our friends at Print: A Bookstore. Questions? 
 Contact Stacy at stomassone@baileylibrary.org.
ATTACH;FMTTYPE=image/jpeg:https://www.baileylibrary.org/wp-content/uploads
 /2025/11/Adobe-Express-file1.jpg
CATEGORIES:Kids
END:VEVENT
BEGIN:VTIMEZONE
TZID:America/New_York
X-LIC-LOCATION:America/New_York
BEGIN:STANDARD
DTSTART:20251102T010000
TZOFFSETFROM:-0400
TZOFFSETTO:-0500
TZNAME:EST
END:STANDARD
END:VTIMEZONE
END:VCALENDAR