
BEGIN:VCALENDAR
VERSION:2.0
PRODID:-//wp-events-plugin.com//6.6.4.4//EN
TZID:America/New_York
X-WR-TIMEZONE:America/New_York
BEGIN:VEVENT
UID:5032@baileylibrary.org
DTSTART;TZID=America/New_York:20260514T180000
DTEND;TZID=America/New_York:20260514T180000
DTSTAMP:20260421T190102Z
URL:https://www.baileylibrary.org/events/sports-card-club/
SUMMARY:Sports Card Club!
DESCRIPTION:Calling all sports card collectors! Older teens and adults are 
 invited to join us for an evening of sports cards. Share your collecting g
 oals\, learn strategies to build your collection\, and explore the best wa
 ys to store and protect your cards. For more information\, email reference
 @baileylibrary.org.
ATTACH;FMTTYPE=image/jpeg:https://www.baileylibrary.org/wp-content/uploads
 /2026/04/Sports-card-club-Resized.jpg
CATEGORIES:Adults,Teens
END:VEVENT
BEGIN:VTIMEZONE
TZID:America/New_York
X-LIC-LOCATION:America/New_York
BEGIN:DAYLIGHT
DTSTART:20260308T030000
TZOFFSETFROM:-0500
TZOFFSETTO:-0400
TZNAME:EDT
END:DAYLIGHT
END:VTIMEZONE
END:VCALENDAR