
BEGIN:VCALENDAR
VERSION:2.0
PRODID:-//wp-events-plugin.com//6.6.4.4//EN
TZID:America/New_York
X-WR-TIMEZONE:America/New_York
BEGIN:VEVENT
UID:806@baileylibrary.org
DTSTART;TZID=America/New_York:20240401T153000
DTEND;TZID=America/New_York:20240401T153000
DTSTAMP:20240327T150322Z
URL:https://www.baileylibrary.org/events/smokey-bear-reading-challenge-kic
 k-off/
SUMMARY:Smokey Bear Reading Challenge Kick-Off!
DESCRIPTION:Join us for a kick-off of our Smokey Bear reading challenge wit
 h special guest speaker Kent Nelson\, Forest Ranger Specialist. This event
  is best for early elementary aged kids. FMI: Contact Stacy at stomassone@
 baileylibrary.org.
ATTACH;FMTTYPE=image/jpeg:https://www.baileylibrary.org/wp-content/uploads
 /2024/03/Smokey-2-resized.jpg
CATEGORIES:Kids
END:VEVENT
BEGIN:VTIMEZONE
TZID:America/New_York
X-LIC-LOCATION:America/New_York
BEGIN:DAYLIGHT
DTSTART:20240310T030000
TZOFFSETFROM:-0500
TZOFFSETTO:-0400
TZNAME:EDT
END:DAYLIGHT
END:VTIMEZONE
END:VCALENDAR