
BEGIN:VCALENDAR
VERSION:2.0
PRODID:-//wp-events-plugin.com//6.6.4.4//EN
TZID:America/New_York
X-WR-TIMEZONE:America/New_York
BEGIN:VEVENT
UID:802@baileylibrary.org
DTSTART;TZID=America/New_York:20240309T100000
DTEND;TZID=America/New_York:20240309T100000
DTSTAMP:20240216T004211Z
URL:https://www.baileylibrary.org/events/puzzle-party-throwdown/
SUMMARY:Puzzle Party Throwdown!
DESCRIPTION:Are you good at puzzles? Are you fast with puzzles? Are you com
 petitive about team activities? Grab 3 to 4 of your friends and come on do
 wn to the library on Saturday\, March 9 at 10am for the Puzzle Party Throw
 down!\n\nWe partnered with Freckle Salvage Company to plan this super fun 
 family event. 3\, 4\, and 5 people teams will compete to see who will be t
 he first to finish their puzzle. There will be prizes! There will be snack
 s! There will be teamwork! Most of all\, there will be FUN!\n\nRegister yo
 ur team of no more than 5 people by calling 207-377-8673\, emailing stomas
 sone@baileylibrary.org\, or fill out this form.\n\nSpace is limited\, so r
 egister now!
ATTACH;FMTTYPE=image/jpeg:https://www.baileylibrary.org/wp-content/uploads
 /2024/02/puzzleparty.png
CATEGORIES:Adults,Kids,Teens
END:VEVENT
BEGIN:VTIMEZONE
TZID:America/New_York
X-LIC-LOCATION:America/New_York
BEGIN:STANDARD
DTSTART:20231105T010000
TZOFFSETFROM:-0400
TZOFFSETTO:-0500
TZNAME:EST
END:STANDARD
END:VTIMEZONE
END:VCALENDAR