
BEGIN:VCALENDAR
VERSION:2.0
PRODID:-//wp-events-plugin.com//6.6.4.4//EN
TZID:America/New_York
X-WR-TIMEZONE:America/New_York
BEGIN:VEVENT
UID:5030@baileylibrary.org
DTSTART;TZID=America/New_York:20260328T110000
DTEND;TZID=America/New_York:20260328T110000
DTSTAMP:20260303T215214Z
URL:https://www.baileylibrary.org/events/puzzle-party-throwdown-2/
SUMMARY:Puzzle Party Throwdown!
DESCRIPTION:Are you good at puzzles? Are you fast with puzzles? Grab your f
 riends and come on down to the library for the 2026 Puzzle Party Throwdown
 ! Teams of 3-5 people will compete to be the first to finish their puzzle.
  There will be prizes! There will be snacks! Most of all\, there will be F
 UN! Space is limited\, so please register your team ahead of time by calli
 ng the library at 377-8673 or emailing Michael at mstanley@baileylibrary.o
 rg.
ATTACH;FMTTYPE=image/jpeg:https://www.baileylibrary.org/wp-content/uploads
 /2026/03/puzzle-contest-resized.png
CATEGORIES:Adults,Kids,Teens
END:VEVENT
BEGIN:VTIMEZONE
TZID:America/New_York
X-LIC-LOCATION:America/New_York
BEGIN:DAYLIGHT
DTSTART:20260308T030000
TZOFFSETFROM:-0500
TZOFFSETTO:-0400
TZNAME:EDT
END:DAYLIGHT
END:VTIMEZONE
END:VCALENDAR