
BEGIN:VCALENDAR
VERSION:2.0
PRODID:-//wp-events-plugin.com//6.6.4.4//EN
TZID:America/New_York
X-WR-TIMEZONE:America/New_York
BEGIN:VEVENT
UID:1182@baileylibrary.org
DTSTART;TZID=America/New_York:20240612T150000
DTEND;TZID=America/New_York:20240612T150000
DTSTAMP:20240520T213002Z
URL:https://www.baileylibrary.org/events/pride-button-making-for-teens/
SUMMARY:Pride Month Button Making for Teens!
DESCRIPTION:Join us for a fun button making program for teens in celebrati
 on of Pride Month! Get creative and make your own designs or use some of o
 ur design ideas. FMI: Email Maayan at mdantonio@baileylibrary.org.
ATTACH;FMTTYPE=image/jpeg:https://www.baileylibrary.org/wp-content/uploads
 /2024/05/pride2.jpg
CATEGORIES:Teens
END:VEVENT
BEGIN:VTIMEZONE
TZID:America/New_York
X-LIC-LOCATION:America/New_York
BEGIN:DAYLIGHT
DTSTART:20240310T030000
TZOFFSETFROM:-0500
TZOFFSETTO:-0400
TZNAME:EDT
END:DAYLIGHT
END:VTIMEZONE
END:VCALENDAR