
BEGIN:VCALENDAR
VERSION:2.0
PRODID:-//wp-events-plugin.com//6.6.4.4//EN
TZID:America/New_York
X-WR-TIMEZONE:America/New_York
BEGIN:VEVENT
UID:1178@baileylibrary.org
DTSTART;TZID=America/New_York:20240626T160000
DTEND;TZID=America/New_York:20240626T160000
DTSTAMP:20240520T170714Z
URL:https://www.baileylibrary.org/events/pickles-potions-lotions-diy-clay-
 face-mask-for-teens/
SUMMARY:Pickle&#8217\;s Potions &#038\; Lotions – DIY Clay Face Mask for 
 Teens!
DESCRIPTION:Come join us to make your own clay face mask with Pickle's Poti
 ons &amp\; Lotions! Recommended for ages 13+. Spots are limited and pre-re
 gistration is required. To register or ask questions\, email Maayan at mda
 ntonio@baileylibrary.org.
ATTACH;FMTTYPE=image/jpeg:https://www.baileylibrary.org/wp-content/uploads
 /2024/05/picklesclayresized.jpg
CATEGORIES:Teens
END:VEVENT
BEGIN:VTIMEZONE
TZID:America/New_York
X-LIC-LOCATION:America/New_York
BEGIN:DAYLIGHT
DTSTART:20240310T030000
TZOFFSETFROM:-0500
TZOFFSETTO:-0400
TZNAME:EDT
END:DAYLIGHT
END:VTIMEZONE
END:VCALENDAR