
BEGIN:VCALENDAR
VERSION:2.0
PRODID:-//wp-events-plugin.com//6.6.4.4//EN
TZID:America/New_York
X-WR-TIMEZONE:America/New_York
BEGIN:VEVENT
UID:1616@baileylibrary.org
DTSTART;TZID=America/New_York:20240829T180000
DTEND;TZID=America/New_York:20240829T180000
DTSTAMP:20240807T180533Z
URL:https://www.baileylibrary.org/events/pete-kilpatrick/
SUMMARY:Pete Kilpatrick!
DESCRIPTION:Come see local musician Pete Kilpatrick! Pete has been named Ma
 ine’s Best Act four times in the Portland Best Music Awards. He has perf
 ormed with Dave Matthews\, Ray Lamontagne\, and many others. His award-win
 ning music can be heard on "Parks and Recreation\," "The Office\," at the 
 Sundance Film Festival\, and much more. Doors open at 5:30pm. FMI: Email L
 eigh at lwilkinson@baileylibrary.org.
ATTACH;FMTTYPE=image/jpeg:https://www.baileylibrary.org/wp-content/uploads
 /2024/08/file-1.jpg
CATEGORIES:Adults,Teens
END:VEVENT
BEGIN:VTIMEZONE
TZID:America/New_York
X-LIC-LOCATION:America/New_York
BEGIN:DAYLIGHT
DTSTART:20240310T030000
TZOFFSETFROM:-0500
TZOFFSETTO:-0400
TZNAME:EDT
END:DAYLIGHT
END:VTIMEZONE
END:VCALENDAR