
BEGIN:VCALENDAR
VERSION:2.0
PRODID:-//wp-events-plugin.com//6.6.4.4//EN
TZID:America/New_York
X-WR-TIMEZONE:America/New_York
BEGIN:VEVENT
UID:2596@baileylibrary.org
DTSTART;TZID=America/New_York:20250801T110000
DTEND;TZID=America/New_York:20250801T110000
DTSTAMP:20250528T183259Z
URL:https://www.baileylibrary.org/events/mr-drew-his-animals-too-4/
SUMMARY:Mr. Drew &#038\; His Animals Too!
DESCRIPTION:Join us for an exciting and educational presentation with Mr. D
 rew and His Animals Too! Mr. Drew will display his exotic animals\, share 
 fascinating animal facts\, and teach us about animal care and rehabilitati
 on. You will want to arrive early for this popular event! There are two sh
 owings of this event - please attend only one showing to ensure there is r
 oom for all children to attend.  FMI: Email Stacy at stomassone@baileylib
 rary.org.
ATTACH;FMTTYPE=image/jpeg:https://www.baileylibrary.org/wp-content/uploads
 /2024/05/MrDrew2024-resized.jpg
CATEGORIES:Kids,Teens
END:VEVENT
BEGIN:VTIMEZONE
TZID:America/New_York
X-LIC-LOCATION:America/New_York
BEGIN:DAYLIGHT
DTSTART:20250309T030000
TZOFFSETFROM:-0500
TZOFFSETTO:-0400
TZNAME:EDT
END:DAYLIGHT
END:VTIMEZONE
END:VCALENDAR