
BEGIN:VCALENDAR
VERSION:2.0
PRODID:-//wp-events-plugin.com//6.6.4.4//EN
TZID:America/New_York
X-WR-TIMEZONE:America/New_York
BEGIN:VEVENT
UID:1608@baileylibrary.org
DTSTART;TZID=America/New_York:20240705T130000
DTEND;TZID=America/New_York:20240705T130000
DTSTAMP:20240701T175711Z
URL:https://www.baileylibrary.org/events/movie-stuffed-animal-sleepover/
SUMMARY:Movie &#038\; Stuffed Animal Sleepover!
DESCRIPTION:Come watch Toy Story with us as we kick off our Stuffed Animal 
 Sleepover! We will have popcorn\, and kids can drop off their bravest stuf
 fed animal to sleep overnight at the library! Your stuffed animal will get
  into all kind of adventures and you can pick it up the next morning at ou
 r Pick Up Party. Note: Stuffed animal drop-off is not required to attend t
 he movie\, and movie attendance is not required to participate in the stuf
 fed animal sleepover. You can also drop off your stuffed animal anytime be
 tween 10am and 3pm on Friday. FMI: Email Stacy at stomassone@baileylibrary
 .org.\n\n\n\n\n\n\n\n\n
ATTACH;FMTTYPE=image/jpeg:https://www.baileylibrary.org/wp-content/uploads
 /2024/07/Stuffy-Sleepover-resized.jpg
CATEGORIES:Kids
END:VEVENT
BEGIN:VTIMEZONE
TZID:America/New_York
X-LIC-LOCATION:America/New_York
BEGIN:DAYLIGHT
DTSTART:20240310T030000
TZOFFSETFROM:-0500
TZOFFSETTO:-0400
TZNAME:EDT
END:DAYLIGHT
END:VTIMEZONE
END:VCALENDAR