
BEGIN:VCALENDAR
VERSION:2.0
PRODID:-//wp-events-plugin.com//6.6.4.4//EN
TZID:America/New_York
X-WR-TIMEZONE:America/New_York
BEGIN:VEVENT
UID:2594@baileylibrary.org
DTSTART;TZID=America/New_York:20250811T130000
DTEND;TZID=America/New_York:20250811T130000
DTSTAMP:20250623T192806Z
URL:https://www.baileylibrary.org/events/movie-mondays-2025-08-11/
SUMMARY:Movie Mondays!
DESCRIPTION:Come watch a fun kids movie with us every Monday from June 23rd
  through August 11th! This event will take place in our air-conditioned Ki
 ng Event Room and will include candy and popcorn! FMI: contact Stacy at st
 omassone@baileylibrary.org.
ATTACH;FMTTYPE=image/jpeg:https://www.baileylibrary.org/wp-content/uploads
 /2025/05/Movie-Party-resized.jpg
CATEGORIES:Kids
END:VEVENT
BEGIN:VTIMEZONE
TZID:America/New_York
X-LIC-LOCATION:America/New_York
BEGIN:DAYLIGHT
DTSTART:20250309T030000
TZOFFSETFROM:-0500
TZOFFSETTO:-0400
TZNAME:EDT
END:DAYLIGHT
END:VTIMEZONE
END:VCALENDAR