
BEGIN:VCALENDAR
VERSION:2.0
PRODID:-//wp-events-plugin.com//6.6.4.4//EN
TZID:America/New_York
X-WR-TIMEZONE:America/New_York
BEGIN:VEVENT
UID:1605@baileylibrary.org
DTSTART;TZID=America/New_York:20240621T130000
DTEND;TZID=America/New_York:20240621T130000
DTSTAMP:20240620T191846Z
URL:https://www.baileylibrary.org/events/movie-and-ice-cream/
SUMMARY:Movie and Ice Cream!
DESCRIPTION:Our original plans for Mad Science fell through\, but not to wo
 rry! Come to the library anyway\, we'll be keeping cool by watching 2002's
  Ice Age and eating ice cream! In our air-conditioned event room downstair
 s\, you'll be sure to beat the heat with a tasty summer treat! Join us as 
 we have fun watching Sid\, Manny\, Diego and the rest of the gang scrabble
  across the frozen tundra!\n\nFor more information\, please email Stacy at
  stomassone@baileylibrary.org
ATTACH;FMTTYPE=image/jpeg:https://www.baileylibrary.org/wp-content/uploads
 /2024/06/file.jpg
CATEGORIES:Adults
END:VEVENT
BEGIN:VTIMEZONE
TZID:America/New_York
X-LIC-LOCATION:America/New_York
BEGIN:DAYLIGHT
DTSTART:20240310T030000
TZOFFSETFROM:-0500
TZOFFSETTO:-0400
TZNAME:EDT
END:DAYLIGHT
END:VTIMEZONE
END:VCALENDAR