
BEGIN:VCALENDAR
VERSION:2.0
PRODID:-//wp-events-plugin.com//6.6.4.4//EN
TZID:America/New_York
X-WR-TIMEZONE:America/New_York
BEGIN:VEVENT
UID:716@baileylibrary.org
DTSTART;TZID=America/New_York:20240729T153000
DTEND;TZID=America/New_York:20240729T153000
DTSTAMP:20240701T183109Z
URL:https://www.baileylibrary.org/events/maker-mondays-2024-07-29/
SUMMARY:Maker Mondays &#8211\; Olympics Movie!
DESCRIPTION:Every 5th Monday of the month\, Stacy throws a party! Join us a
 s we watch the movie Miracle about an Olympic hockey team. We will have r
 efreshments after the movie\, play games\, do crafts\, and be really excit
 ed about the Olympics! FMI: contact Stacy at stomassone@baileylibrary.org
 .
ATTACH;FMTTYPE=image/jpeg:https://www.baileylibrary.org/wp-content/uploads
 /2022/06/Maker-Mondays2-5.23.jpg
CATEGORIES:Kids
END:VEVENT
BEGIN:VTIMEZONE
TZID:America/New_York
X-LIC-LOCATION:America/New_York
BEGIN:DAYLIGHT
DTSTART:20240310T030000
TZOFFSETFROM:-0500
TZOFFSETTO:-0400
TZNAME:EDT
END:DAYLIGHT
END:VTIMEZONE
END:VCALENDAR