
BEGIN:VCALENDAR
VERSION:2.0
PRODID:-//wp-events-plugin.com//6.6.4.4//EN
TZID:America/New_York
X-WR-TIMEZONE:America/New_York
BEGIN:VEVENT
UID:1184@baileylibrary.org
DTSTART;TZID=America/New_York:20240816T130000
DTEND;TZID=America/New_York:20240816T130000
DTSTAMP:20240620T190819Z
URL:https://www.baileylibrary.org/events/mad-science-of-maine/
SUMMARY:Mad Science of Maine!
DESCRIPTION:POSTPONED This program\, originally scheduled for Friday June 2
 1\, has been moved back to Friday\, August 16th at 1pm.\n\nJoin us for a c
 aptivating STEM presentation! Mad Science of Maine will deliver an action-
 packed and interactive educational program. Kids love Mad Science! FMI: Em
 ail Stacy at stomassone@baileylibrary.org.
ATTACH;FMTTYPE=image/jpeg:https://www.baileylibrary.org/wp-content/uploads
 /2024/05/Mad-science-logo-resized.jpg
CATEGORIES:Kids
END:VEVENT
BEGIN:VTIMEZONE
TZID:America/New_York
X-LIC-LOCATION:America/New_York
BEGIN:DAYLIGHT
DTSTART:20240310T030000
TZOFFSETFROM:-0500
TZOFFSETTO:-0400
TZNAME:EDT
END:DAYLIGHT
END:VTIMEZONE
END:VCALENDAR