
BEGIN:VCALENDAR
VERSION:2.0
PRODID:-//wp-events-plugin.com//6.6.4.4//EN
TZID:America/New_York
X-WR-TIMEZONE:America/New_York
BEGIN:VEVENT
UID:2599@baileylibrary.org
DTSTART;TZID=America/New_York:20250808T130000
DTEND;TZID=America/New_York:20250808T130000
DTSTAMP:20250528T183459Z
URL:https://www.baileylibrary.org/events/lindsey-her-puppet-pals-2/
SUMMARY:Lindsey &#038\; Her Puppet Pals!
DESCRIPTION:Lindsay and Her Puppet Pals returns again this year! Join us fo
 r a funny\, fast-paced\, and interactive variety show with Lindsay's large
 r-than-life Puppet Pals. Lindsay’s comedic animation and timing\, high 
 energy\, and uncanny knack for silly voices electrifies young crowds. FMI:
  Email Stacy at stomassone@baileylibrary.org.\n\n&nbsp\;
ATTACH;FMTTYPE=image/jpeg:https://www.baileylibrary.org/wp-content/uploads
 /2024/07/Lindsay2-resized.jpg
CATEGORIES:Kids
END:VEVENT
BEGIN:VTIMEZONE
TZID:America/New_York
X-LIC-LOCATION:America/New_York
BEGIN:DAYLIGHT
DTSTART:20250309T030000
TZOFFSETFROM:-0500
TZOFFSETTO:-0400
TZNAME:EDT
END:DAYLIGHT
END:VTIMEZONE
END:VCALENDAR