
BEGIN:VCALENDAR
VERSION:2.0
PRODID:-//wp-events-plugin.com//6.6.4.4//EN
TZID:America/New_York
X-WR-TIMEZONE:America/New_York
BEGIN:VEVENT
UID:1614@baileylibrary.org
DTSTART;TZID=America/New_York:20240809T110000
DTEND;TZID=America/New_York:20240809T110000
DTSTAMP:20240706T160449Z
URL:https://www.baileylibrary.org/events/life-sized-candyland/
SUMMARY:Life-Sized Candyland!
DESCRIPTION:Join us for a life-sized rendition of the classic children's bo
 ard game\, Candyland! Children will take turns moving around the board and
  will pass by all of the magical scenes from the original game. The event 
 will run from 11am to 2pm and families can drop in whenever they like duri
 ng that time. FMI: Email Stacy at stomassone@baileylibrary.org.
ATTACH;FMTTYPE=image/jpeg:https://www.baileylibrary.org/wp-content/uploads
 /2023/05/Candyland-resized.jpg
CATEGORIES:Kids
END:VEVENT
BEGIN:VTIMEZONE
TZID:America/New_York
X-LIC-LOCATION:America/New_York
BEGIN:DAYLIGHT
DTSTART:20240310T030000
TZOFFSETFROM:-0500
TZOFFSETTO:-0400
TZNAME:EDT
END:DAYLIGHT
END:VTIMEZONE
END:VCALENDAR