
BEGIN:VCALENDAR
VERSION:2.0
PRODID:-//wp-events-plugin.com//6.6.4.4//EN
TZID:America/New_York
X-WR-TIMEZONE:America/New_York
BEGIN:VEVENT
UID:2286@baileylibrary.org
DTSTART;TZID=America/New_York;VALUE=DATE:20251126
DTEND;TZID=America/New_York;VALUE=DATE:20251127
DTSTAMP:20241122T002042Z
URL:https://www.baileylibrary.org/events/library-closing-early-1pm-2/
SUMMARY:Library Closing Early – 1PM
DESCRIPTION:
ATTACH;FMTTYPE=image/jpeg:https://www.baileylibrary.org/wp-content/uploads
 /2024/11/ClosingEarly-resized.webp
CATEGORIES:Adults,Homeschoolers,Kids,Teens
END:VEVENT
BEGIN:VTIMEZONE
TZID:America/New_York
X-LIC-LOCATION:America/New_York
BEGIN:STANDARD
DTSTART:20251102T010000
TZOFFSETFROM:-0400
TZOFFSETTO:-0500
TZNAME:EST
END:STANDARD
END:VTIMEZONE
END:VCALENDAR