
BEGIN:VCALENDAR
VERSION:2.0
PRODID:-//wp-events-plugin.com//6.6.4.4//EN
TZID:America/New_York
X-WR-TIMEZONE:America/New_York
BEGIN:VEVENT
UID:3940@baileylibrary.org
DTSTART;TZID=America/New_York;VALUE=DATE:20261012
DTEND;TZID=America/New_York;VALUE=DATE:20261013
DTSTAMP:20251007T205741Z
URL:https://www.baileylibrary.org/events/library-closed-44/
SUMMARY:Library Closed
DESCRIPTION:
ATTACH;FMTTYPE=image/jpeg:https://www.baileylibrary.org/wp-content/uploads
 /2022/11/Library-Closed-5.23.png
CATEGORIES:Adults,Kids,Teens
END:VEVENT
BEGIN:VTIMEZONE
TZID:America/New_York
X-LIC-LOCATION:America/New_York
BEGIN:DAYLIGHT
DTSTART:20260308T030000
TZOFFSETFROM:-0500
TZOFFSETTO:-0400
TZNAME:EDT
END:DAYLIGHT
END:VTIMEZONE
END:VCALENDAR