
BEGIN:VCALENDAR
VERSION:2.0
PRODID:-//wp-events-plugin.com//6.6.4.4//EN
TZID:America/New_York
X-WR-TIMEZONE:America/New_York
BEGIN:VEVENT
UID:2282@baileylibrary.org
DTSTART;TZID=America/New_York;VALUE=DATE:20251128
DTEND;TZID=America/New_York;VALUE=DATE:20251129
DTSTAMP:20250710T225333Z
URL:https://www.baileylibrary.org/events/library-closed-30/
SUMMARY:Library Closed
DESCRIPTION:
ATTACH;FMTTYPE=image/jpeg:https://www.baileylibrary.org/wp-content/uploads
 /2022/11/Library-Closed-5.23.png
CATEGORIES:Adults,Kids,Teens
END:VEVENT
BEGIN:VTIMEZONE
TZID:America/New_York
X-LIC-LOCATION:America/New_York
BEGIN:STANDARD
DTSTART:20251102T010000
TZOFFSETFROM:-0400
TZOFFSETTO:-0500
TZNAME:EST
END:STANDARD
END:VTIMEZONE
END:VCALENDAR