
BEGIN:VCALENDAR
VERSION:2.0
PRODID:-//wp-events-plugin.com//6.6.4.4//EN
TZID:America/New_York
X-WR-TIMEZONE:America/New_York
BEGIN:VEVENT
UID:1615@baileylibrary.org
DTSTART;TZID=America/New_York:20240824T100000
DTEND;TZID=America/New_York:20240824T100000
DTSTAMP:20240706T160601Z
URL:https://www.baileylibrary.org/events/last-day-of-summer-reading/
SUMMARY:Last Day of Summer Reading!
DESCRIPTION:Today is the last day to return children's summer reading logs 
 and teen summer reading bookmarks! Children will receive a prize for their
  reading and teens will earn raffle tickets for reading\, book reviews\, p
 rogram participation\, and more. Stop by the library anytime between 10am 
 and 3pm today or call the library with any questions.
ATTACH;FMTTYPE=image/jpeg:https://www.baileylibrary.org/wp-content/uploads
 /2024/07/Summerreading5-resized.png
CATEGORIES:Kids,Teens
END:VEVENT
BEGIN:VTIMEZONE
TZID:America/New_York
X-LIC-LOCATION:America/New_York
BEGIN:DAYLIGHT
DTSTART:20240310T030000
TZOFFSETFROM:-0500
TZOFFSETTO:-0400
TZNAME:EDT
END:DAYLIGHT
END:VTIMEZONE
END:VCALENDAR