
BEGIN:VCALENDAR
VERSION:2.0
PRODID:-//wp-events-plugin.com//6.6.4.4//EN
TZID:America/New_York
X-WR-TIMEZONE:America/New_York
BEGIN:VEVENT
UID:811@baileylibrary.org
DTSTART;TZID=America/New_York:20241023T183000
DTEND;TZID=America/New_York:20241023T183000
DTSTAMP:20240517T153203Z
URL:https://www.baileylibrary.org/events/lakes-region-forum-the-maine-road
 show-presented-by-tim-obrien/
SUMMARY:Lakes Region Forum – &#8220\;The Maine Roadshow&#8221\; presented
  by Tim O&#8217\;Brien
DESCRIPTION:WEDNESDAY – Join us as we welcome award-winning photojournali
 st\, Tim O'Brien\, to discuss his book "The Maine roadshow : a roadside
  tour of the state's history\, culture\, food\, funk &amp\; oddities." T
 im will share engaging stories from his five-year journey visiting and doc
 umenting some of the best locations in the state. FMI: Contact Leigh at lw
 ilkinson@baileylibrary.org.
ATTACH;FMTTYPE=image/jpeg:https://www.baileylibrary.org/wp-content/uploads
 /2024/05/Maine-Roadshow-resized.jpg
CATEGORIES:Adults
END:VEVENT
BEGIN:VTIMEZONE
TZID:America/New_York
X-LIC-LOCATION:America/New_York
BEGIN:DAYLIGHT
DTSTART:20240310T030000
TZOFFSETFROM:-0500
TZOFFSETTO:-0400
TZNAME:EDT
END:DAYLIGHT
END:VTIMEZONE
END:VCALENDAR