
BEGIN:VCALENDAR
VERSION:2.0
PRODID:-//wp-events-plugin.com//6.6.4.4//EN
TZID:America/New_York
X-WR-TIMEZONE:America/New_York
BEGIN:VEVENT
UID:533@baileylibrary.org
DTSTART;TZID=America/New_York:20240828T183000
DTEND;TZID=America/New_York:20240828T183000
DTSTAMP:20240325T194130Z
URL:https://www.baileylibrary.org/events/lakes-region-forum-tess-gerritsen
 /
SUMMARY:Lakes Region Forum – Tess Gerritsen
DESCRIPTION:WEDNESDAY – Join us as we welcome internationally bestselling
  Maine author\, Tess Gerritsen\, to discuss her latest book\, The Spy Coas
 t. FMI: Contact Leigh at lwilkinson@baileylibrary.org.
ATTACH;FMTTYPE=image/jpeg:https://www.baileylibrary.org/wp-content/uploads
 /2023/12/tess-gerritsen.jpg
CATEGORIES:Adults
END:VEVENT
BEGIN:VTIMEZONE
TZID:America/New_York
X-LIC-LOCATION:America/New_York
BEGIN:DAYLIGHT
DTSTART:20240310T030000
TZOFFSETFROM:-0500
TZOFFSETTO:-0400
TZNAME:EDT
END:DAYLIGHT
END:VTIMEZONE
END:VCALENDAR