
BEGIN:VCALENDAR
VERSION:2.0
PRODID:-//wp-events-plugin.com//6.6.4.4//EN
TZID:America/New_York
X-WR-TIMEZONE:America/New_York
BEGIN:VEVENT
UID:4809@baileylibrary.org
DTSTART;TZID=America/New_York:20260722T183000
DTEND;TZID=America/New_York:20260722T183000
DTSTAMP:20260330T184549Z
URL:https://www.baileylibrary.org/events/lakes-region-forum-sharon-kitchen
 s/
SUMMARY:Lakes Region Forum – Sharon Kitchens
DESCRIPTION:Join us as we welcome Maine author Sharon Kitchens! Sharon will
  be discussing her new book Steven King's Maine. FMI: Contact Michael at r
 eference@baileylibrary.org.
ATTACH;FMTTYPE=image/jpeg:https://www.baileylibrary.org/wp-content/uploads
 /2025/11/Sharon-Kitchens-resized-3.jpg
CATEGORIES:Adults
END:VEVENT
BEGIN:VTIMEZONE
TZID:America/New_York
X-LIC-LOCATION:America/New_York
BEGIN:DAYLIGHT
DTSTART:20260308T030000
TZOFFSETFROM:-0500
TZOFFSETTO:-0400
TZNAME:EDT
END:DAYLIGHT
END:VTIMEZONE
END:VCALENDAR