
BEGIN:VCALENDAR
VERSION:2.0
PRODID:-//wp-events-plugin.com//6.6.4.4//EN
TZID:America/New_York
X-WR-TIMEZONE:America/New_York
BEGIN:VEVENT
UID:532@baileylibrary.org
DTSTART;TZID=America/New_York:20240724T183000
DTEND;TZID=America/New_York:20240724T183000
DTSTAMP:20240325T194126Z
URL:https://www.baileylibrary.org/events/lakes-region-forum-scot-lehigh-2/
SUMMARY:Lakes Region Forum – Scot Lehigh
DESCRIPTION:WEDNESDAY – Join us as we welcome Maine native\, Scot Lehigh\
 , author of the acclaimed novel\, Just East of Nowhere. Lehigh is a Maine 
 native and was a Pulitzer Prize finalist for his previous work as a report
 er for the Boston Phoenix. FMI: Contact Leigh at lwilkinson@baileylibrary
 .org.
ATTACH;FMTTYPE=image/jpeg:https://www.baileylibrary.org/wp-content/uploads
 /2023/12/Soct-Lehigh.jpg
CATEGORIES:Adults
END:VEVENT
BEGIN:VTIMEZONE
TZID:America/New_York
X-LIC-LOCATION:America/New_York
BEGIN:DAYLIGHT
DTSTART:20240310T030000
TZOFFSETFROM:-0500
TZOFFSETTO:-0400
TZNAME:EDT
END:DAYLIGHT
END:VTIMEZONE
END:VCALENDAR