
BEGIN:VCALENDAR
VERSION:2.0
PRODID:-//wp-events-plugin.com//6.6.4.4//EN
TZID:America/New_York
X-WR-TIMEZONE:America/New_York
BEGIN:VEVENT
UID:4811@baileylibrary.org
DTSTART;TZID=America/New_York:20260923T183000
DTEND;TZID=America/New_York:20260923T183000
DTSTAMP:20260330T184625Z
URL:https://www.baileylibrary.org/events/lakes-region-forum-nick-fuller-go
 ogins/
SUMMARY:Lakes Region Forum – Nick Fuller Googins
DESCRIPTION:Join us as we welcome Maine author Nick Fuller Googins! Nick wi
 ll be discussing his new book The Frequency of Living Things. FMI: Contact
  Michael at reference@baileylibrary.org.
ATTACH;FMTTYPE=image/jpeg:https://www.baileylibrary.org/wp-content/uploads
 /2025/11/Nick-Fuller-Googins-resized.jpg
CATEGORIES:Adults
END:VEVENT
BEGIN:VTIMEZONE
TZID:America/New_York
X-LIC-LOCATION:America/New_York
BEGIN:DAYLIGHT
DTSTART:20260308T030000
TZOFFSETFROM:-0500
TZOFFSETTO:-0400
TZNAME:EDT
END:DAYLIGHT
END:VTIMEZONE
END:VCALENDAR