
BEGIN:VCALENDAR
VERSION:2.0
PRODID:-//wp-events-plugin.com//6.6.4.4//EN
TZID:America/New_York
X-WR-TIMEZONE:America/New_York
BEGIN:VEVENT
UID:4810@baileylibrary.org
DTSTART;TZID=America/New_York:20261028T183000
DTEND;TZID=America/New_York:20261028T183000
DTSTAMP:20260414T183604Z
URL:https://www.baileylibrary.org/events/lakes-region-forum-kate-russo/
SUMMARY:Lakes Region Forum – Kate Russo
DESCRIPTION:Join us as we welcome Maine author Kate Russo! Kate will be dis
 cussing her new book Until Alison. FMI: Contact Michael at reference@baile
 ylibrary.org.
ATTACH;FMTTYPE=image/jpeg:https://www.baileylibrary.org/wp-content/uploads
 /2025/11/Kate-Russo-resized.jpg
CATEGORIES:Adults
END:VEVENT
BEGIN:VTIMEZONE
TZID:America/New_York
X-LIC-LOCATION:America/New_York
BEGIN:DAYLIGHT
DTSTART:20260308T030000
TZOFFSETFROM:-0500
TZOFFSETTO:-0400
TZNAME:EDT
END:DAYLIGHT
END:VTIMEZONE
END:VCALENDAR