
BEGIN:VCALENDAR
VERSION:2.0
PRODID:-//wp-events-plugin.com//6.6.4.4//EN
TZID:America/New_York
X-WR-TIMEZONE:America/New_York
BEGIN:VEVENT
UID:1@baileylibrary.org
DTSTART;TZID=America/New_York:20240522T183000
DTEND;TZID=America/New_York:20240522T183000
DTSTAMP:20240501T141520Z
URL:https://www.baileylibrary.org/events/lakes-region-forum-jennifer-lunde
 n/
SUMMARY:Lakes Region Forum – Jennifer Lunden
DESCRIPTION:WEDNESDAY – Join us as we welcome Jennifer Lunden\, award-win
 ning Maine author of American Breakdown: Our Ailing Nation\, My Body's Re
 volt\, and the Nineteenth Century Woman Who Brought Me Back to Life. Lunde
 n’s book has received rave reviews from the Washington Post\, Booklist\,
  and Kirkus\, and was selected as a People Pick by People Magazine. FMI: C
 ontact Leigh at lwilkinson@baileylibrary.org.
ATTACH;FMTTYPE=image/jpeg:https://www.baileylibrary.org/wp-content/uploads
 /2023/12/Lunden.jpg
CATEGORIES:Adults
END:VEVENT
BEGIN:VTIMEZONE
TZID:America/New_York
X-LIC-LOCATION:America/New_York
BEGIN:DAYLIGHT
DTSTART:20240310T030000
TZOFFSETFROM:-0500
TZOFFSETTO:-0400
TZNAME:EDT
END:DAYLIGHT
END:VTIMEZONE
END:VCALENDAR